BEGIN:VCALENDAR
VERSION:2.0
PRODID:-//Heritage Central Otago - ECPv6.15.18//NONSGML v1.0//EN
CALSCALE:GREGORIAN
METHOD:PUBLISH
X-WR-CALNAME:Heritage Central Otago
X-ORIGINAL-URL:https://www.heritagecentralotago.org.nz
X-WR-CALDESC:Events for Heritage Central Otago
REFRESH-INTERVAL;VALUE=DURATION:PT1H
X-Robots-Tag:noindex
X-PUBLISHED-TTL:PT1H
BEGIN:VTIMEZONE
TZID:Pacific/Auckland
BEGIN:STANDARD
TZOFFSETFROM:+1300
TZOFFSETTO:+1200
TZNAME:NZST
DTSTART:20220402T140000
END:STANDARD
BEGIN:DAYLIGHT
TZOFFSETFROM:+1200
TZOFFSETTO:+1300
TZNAME:NZDT
DTSTART:20220924T140000
END:DAYLIGHT
BEGIN:STANDARD
TZOFFSETFROM:+1300
TZOFFSETTO:+1200
TZNAME:NZST
DTSTART:20230401T140000
END:STANDARD
BEGIN:DAYLIGHT
TZOFFSETFROM:+1200
TZOFFSETTO:+1300
TZNAME:NZDT
DTSTART:20230923T140000
END:DAYLIGHT
BEGIN:STANDARD
TZOFFSETFROM:+1300
TZOFFSETTO:+1200
TZNAME:NZST
DTSTART:20240406T140000
END:STANDARD
BEGIN:DAYLIGHT
TZOFFSETFROM:+1200
TZOFFSETTO:+1300
TZNAME:NZDT
DTSTART:20240928T140000
END:DAYLIGHT
END:VTIMEZONE
BEGIN:VEVENT
DTSTART;VALUE=DATE:20231111
DTEND;VALUE=DATE:20231112
DTSTAMP:20260420T222946
CREATED:20230715T052537Z
LAST-MODIFIED:20230725T211522Z
UID:5869-1699660800-1699747199@www.heritagecentralotago.org.nz
SUMMARY:Postie Bike Rally - Millers Flat
DESCRIPTION:An Otago Goldfields Heritage Trust Fund Raising Event\nEarly bird entry $200 – Includes breakfast\, lunch & dinner\n50 – 150cc motor cycles\n270 km backroads \nVisit their website for more details click here
URL:https://www.heritagecentralotago.org.nz/event/postie-bike-rally-millers-flat/
CATEGORIES:Event,Tour
ATTACH;FMTTYPE=image/jpeg:https://www.heritagecentralotago.org.nz/wp-content/uploads/2023/07/postiebikerally-600-x-300-min.jpg
END:VEVENT
END:VCALENDAR